BEGIN:VCALENDAR
VERSION:2.0
PRODID:-//ChamberMaster//Event Calendar 2.0//EN
METHOD:PUBLISH
X-PUBLISHED-TTL:P3D
REFRESH-INTERVAL:P3D
CALSCALE:GREGORIAN
BEGIN:VEVENT
DTSTART:20260422T200000Z
DTEND:20260422T204500Z
X-MICROSOFT-CDO-ALLDAYEVENT:FALSE
SUMMARY:Brain Builders
DESCRIPTION:A program intended for children ages 6-8 to build\, discover\, and explore the world around them. Programs vary each week and more information can be found at https://calendar.csmpl.org/events/month
X-ALT-DESC;FMTTYPE=text/html:A program intended for children ages 6-8 to build\, discover\, and explore the world around them. Programs vary each week and more information can be found at&nbsp\;https://calendar.csmpl.org/events/month
LOCATION:Carnegie-Schadde Memorial Public Library Youth Program Room 230 4th Avenue Baraboo\, WI 53913
UID:e.110.66433
SEQUENCE:3
DTSTAMP:20260419T205343Z
URL:https://dev.baraboo.com/events/details/brain-builders-04-22-2026-66433
END:VEVENT

END:VCALENDAR
